BEGIN:VCALENDAR
VERSION:2.0
BEGIN:VEVENT
URL:https://jcmovement.com/index.php/community/events/viewevent/6-daily-video-questions 
DTSTART:20220414T000000
DTEND:20230414T120000
SUMMARY:Daily video questions
DESCRIPTION:
LOCATION:USA
END:VEVENT
END:VCALENDAR